BEGIN:VCALENDAR
VERSION:2.0
PRODID:-//CAIP Canada-PAIM Canada - ECPv6.15.15//NONSGML v1.0//EN
CALSCALE:GREGORIAN
METHOD:PUBLISH
X-ORIGINAL-URL:https://www.caip-paim.ca
X-WR-CALDESC:Events for CAIP Canada-PAIM Canada
REFRESH-INTERVAL;VALUE=DURATION:PT1H
X-Robots-Tag:noindex
X-PUBLISHED-TTL:PT1H
BEGIN:VTIMEZONE
TZID:America/Toronto
BEGIN:DAYLIGHT
TZOFFSETFROM:-0500
TZOFFSETTO:-0400
TZNAME:EDT
DTSTART:20240310T070000
END:DAYLIGHT
BEGIN:STANDARD
TZOFFSETFROM:-0400
TZOFFSETTO:-0500
TZNAME:EST
DTSTART:20241103T060000
END:STANDARD
BEGIN:DAYLIGHT
TZOFFSETFROM:-0500
TZOFFSETTO:-0400
TZNAME:EDT
DTSTART:20250309T070000
END:DAYLIGHT
BEGIN:STANDARD
TZOFFSETFROM:-0400
TZOFFSETTO:-0500
TZNAME:EST
DTSTART:20251102T060000
END:STANDARD
BEGIN:DAYLIGHT
TZOFFSETFROM:-0500
TZOFFSETTO:-0400
TZNAME:EDT
DTSTART:20260308T070000
END:DAYLIGHT
BEGIN:STANDARD
TZOFFSETFROM:-0400
TZOFFSETTO:-0500
TZNAME:EST
DTSTART:20261101T060000
END:STANDARD
END:VTIMEZONE
BEGIN:VEVENT
DTSTART;TZID=America/Toronto:20251029T160000
DTEND;TZID=America/Toronto:20251029T180000
DTSTAMP:20260424T013214
CREATED:20251009T190143Z
LAST-MODIFIED:20251022T193506Z
UID:10000325-1761753600-1761760800@www.caip-paim.ca
SUMMARY:Halifax Networking Event
DESCRIPTION:Thanks to our Sponsors:\n			\n			\n				\n				\n				\n				\n			\n				\n				\n				\n				\n				\n				\n				\n				\n				\n				\n				\n			\n			\n				\n				\n				\n				\n				\n				\n				\n				\n				\n				\n			\n			\n				\n				\n				\n				\n				\n			\n				\n				\n				\n				\n			\n				\n				\n				\n				\n				\n				\n				\n				\n				\n				\n				Halifax Networking Event\nThe market research industry is undergoing unprecedented transformation. This free event is your opportunity to stay ahead of the curve and gain valuable insights into how the sector is evolving to meet new challenges\, while networking with colleagues over light refreshments / snacks. \nThanks to Narrative Research and MQO Research for sponsoring this event and allowing us to offer this event to you at no cost! \nHear directly from CRIC CEO John Tabone\, CRIC Chair Margaret Brigley and CRIC /CAIP Canada volunteer leaders as they share updates on: \n\nEmerging challenges facing research professionals (i.e.\, data quality\, AI)\nNew guidelines and standards to ensure high-quality research outputs\n\nWhether you’re a research client or supplier\, this is a must-attend event to connect\, learn\, and engage with fellow professionals shaping the future of market research in Canada. \nRSVP Now:Secure your spot by registering \n  \n			\n				Register
URL:https://www.caip-paim.ca/event/halifax-networking-event/
LOCATION:Halifax Marriott Harboufront\, 1919 Upper Water St\,\, Halifax\,\, Nova Scotia\, B3J 3J5\, Canada
ATTACH;FMTTYPE=image/png:https://www.caip-paim.ca/wp-content/uploads/2025/10/Halifax-Event-1.png
ORGANIZER;CN="CAIP Canada":MAILTO:info@caip-paim.ca
END:VEVENT
END:VCALENDAR