BEGIN:VCALENDAR
VERSION:2.0
PRODID:-//CAIP Canada-PAIM Canada - ECPv6.15.15//NONSGML v1.0//EN
CALSCALE:GREGORIAN
METHOD:PUBLISH
X-WR-CALNAME:CAIP Canada-PAIM Canada
X-ORIGINAL-URL:https://www.caip-paim.ca
X-WR-CALDESC:Events for CAIP Canada-PAIM Canada
REFRESH-INTERVAL;VALUE=DURATION:PT1H
X-Robots-Tag:noindex
X-PUBLISHED-TTL:PT1H
BEGIN:VTIMEZONE
TZID:America/Toronto
BEGIN:DAYLIGHT
TZOFFSETFROM:-0500
TZOFFSETTO:-0400
TZNAME:EDT
DTSTART:20240310T070000
END:DAYLIGHT
BEGIN:STANDARD
TZOFFSETFROM:-0400
TZOFFSETTO:-0500
TZNAME:EST
DTSTART:20241103T060000
END:STANDARD
BEGIN:DAYLIGHT
TZOFFSETFROM:-0500
TZOFFSETTO:-0400
TZNAME:EDT
DTSTART:20250309T070000
END:DAYLIGHT
BEGIN:STANDARD
TZOFFSETFROM:-0400
TZOFFSETTO:-0500
TZNAME:EST
DTSTART:20251102T060000
END:STANDARD
BEGIN:DAYLIGHT
TZOFFSETFROM:-0500
TZOFFSETTO:-0400
TZNAME:EDT
DTSTART:20260308T070000
END:DAYLIGHT
BEGIN:STANDARD
TZOFFSETFROM:-0400
TZOFFSETTO:-0500
TZNAME:EST
DTSTART:20261101T060000
END:STANDARD
END:VTIMEZONE
BEGIN:VEVENT
DTSTART;TZID=America/Toronto:20251124T160000
DTEND;TZID=America/Toronto:20251124T180000
DTSTAMP:20260424T000104
CREATED:20251015T163458Z
LAST-MODIFIED:20251024T161355Z
UID:10000330-1764000000-1764007200@www.caip-paim.ca
SUMMARY:Winnipeg Networking Event
DESCRIPTION:Thanks to our Sponsors:\n\n\n\n \n \n \n \n \n \n  \n \n\n\n\n \n			\n			\n				\n				\n				\n				\n			\n				\n				\n				\n				\n				\n				\n				\n				\n				\n				\n				Winnipeg Networking Event\nThe market research industry is undergoing unprecedented transformation. This free event is your opportunity to stay ahead of the curve and gain valuable insights into how the sector is evolving to meet new challenges\, while networking with colleagues over light refreshments / snacks.  The event will feature a panel of experts looking at the implications of AI\, the evolving client/agency partnership and key trends that should be considered in your planning for 2026. \nThanks to Probe Research\, Leger\, PRA and Winnipeg Economic Development and Tourism for sponsoring this event and allowing us to offer this event to you at no cost! \nWhether you’re a research client or supplier\, this is a must-attend event to connect\, learn\, and engage with fellow professionals shaping the future of market research and insights in Canada. \nRSVP Now:Secure your spot by registering \n  \n			\n				Register
URL:https://www.caip-paim.ca/event/winnipeg-networking-event/
LOCATION:Centre Concourse Richardson Building\, 1 Lombard Place\, Winnipeg\, Manitoba\, R3B 0X3\, Canada
ATTACH;FMTTYPE=image/png:https://www.caip-paim.ca/wp-content/uploads/2025/10/Halifax-Event-8.png
ORGANIZER;CN="CAIP Canada":MAILTO:info@caip-paim.ca
END:VEVENT
END:VCALENDAR